BEGIN:VCALENDAR
VERSION:2.0
PRODID:-//Department Of Education//d028e920-ba29-4c41-ab59-a164d852153e
BEGIN:VTIMEZONE
TZID:Australia/Sydney
TZURL:http://tzurl.org/zoneinfo-outlook/Australia/Sydney
X-LIC-LOCATION:Australia/Sydney
BEGIN:STANDARD
TZOFFSETFROM:+1100
TZOFFSETTO:+1000
TZNAME:AEST
DTSTART:19700405T030000
RRULE:FREQ=YEARLY;BYMONTH=4;BYDAY=1SU
END:STANDARD
BEGIN:DAYLIGHT
TZOFFSETFROM:+1000
TZOFFSETTO:+1100
TZNAME:AEDT
DTSTART:19701004T020000
RRULE:FREQ=YEARLY;BYMONTH=10;BYDAY=1SU
END:DAYLIGHT
END:VTIMEZONE
CALSCALE:GREGORIAN
X-WR-TIMEZONE:Australia/Sydney
BEGIN:VEVENT
DTSTART;VALUE=DATE:20200302
DTEND;VALUE=DATE:20200303
DTSTAMP:20200302T000000Z
UID:90c48484-65d8-4b6e-a94a-37a5a42c0f0c
LOCATION:International Convention Centre, Darling Harbour
SUMMARY;LANGUAGE=en-us:Young Leaders Day
SEQUENCE:0
DESCRIPTION:Young Leaders Day
END:VEVENT
TRANSP:TRANSPARENT
END:VCALENDAR
