BEGIN:VCALENDAR
VERSION:2.0
PRODID:-//Department Of Education//b34a4318-bbb3-4ad2-a16e-f4b7764eb604
BEGIN:VTIMEZONE
TZID:Australia/Sydney
TZURL:http://tzurl.org/zoneinfo-outlook/Australia/Sydney
X-LIC-LOCATION:Australia/Sydney
BEGIN:STANDARD
TZOFFSETFROM:+1100
TZOFFSETTO:+1000
TZNAME:AEST
DTSTART:19700405T030000
RRULE:FREQ=YEARLY;BYMONTH=4;BYDAY=1SU
END:STANDARD
BEGIN:DAYLIGHT
TZOFFSETFROM:+1000
TZOFFSETTO:+1100
TZNAME:AEDT
DTSTART:19701004T020000
RRULE:FREQ=YEARLY;BYMONTH=10;BYDAY=1SU
END:DAYLIGHT
END:VTIMEZONE
CALSCALE:GREGORIAN
X-WR-TIMEZONE:Australia/Sydney
BEGIN:VEVENT
DTSTART;VALUE=DATE:20200316
DTEND;VALUE=DATE:20200317
DTSTAMP:20200316T000000Z
UID:c73b5c38-e495-44d4-8ed1-9e3c200cf1e5
LOCATION:Winston Heights Public School
SUMMARY;LANGUAGE=en-us:Photo Day
SEQUENCE:0
DESCRIPTION:Photo Day
END:VEVENT
TRANSP:TRANSPARENT
END:VCALENDAR
