BEGIN:VCALENDAR
VERSION:2.0
PRODID:-//Department Of Education//834485ee-761d-4ccf-8fef-f80b7b6c3164
BEGIN:VTIMEZONE
TZID:Australia/Sydney
TZURL:http://tzurl.org/zoneinfo-outlook/Australia/Sydney
X-LIC-LOCATION:Australia/Sydney
BEGIN:STANDARD
TZOFFSETFROM:+1100
TZOFFSETTO:+1000
TZNAME:AEST
DTSTART:19700405T030000
RRULE:FREQ=YEARLY;BYMONTH=4;BYDAY=1SU
END:STANDARD
BEGIN:DAYLIGHT
TZOFFSETFROM:+1000
TZOFFSETTO:+1100
TZNAME:AEDT
DTSTART:19701004T020000
RRULE:FREQ=YEARLY;BYMONTH=10;BYDAY=1SU
END:DAYLIGHT
END:VTIMEZONE
CALSCALE:GREGORIAN
X-WR-TIMEZONE:Australia/Sydney
BEGIN:VEVENT
DTSTART;TZID=Australia/Sydney:20200227T113055
DTEND;TZID=Australia/Sydney:20200227T120003
DTSTAMP:20200227T000000Z
UID:c572dc27-f4f9-4229-b607-218fca3d9673
LOCATION:School Hall
SUMMARY;LANGUAGE=en-us:SRC Induction Assembly
SEQUENCE:0
DESCRIPTION:SRC Induction Assembly
END:VEVENT
TRANSP:TRANSPARENT
END:VCALENDAR
